BEGIN:VCALENDAR
VERSION:2.0
PRODID:-//RIGHTHERE//CALENDARIZE IT V3.2//EN
BEGIN:VEVENT
UID:2949-events@www.12gaugemma.com
DTSTART:20230502T190000Z
DTEND:20230502T200000Z
DTSTAMP:20230506T142635Z
SUMMARY:BJJ Fundamentals
RRULE:FREQ=WEEKLY;INTERVAL=1
ORGANIZER;CN=12 Gauge MMA:MAILTO:admin@12gaugemma.com
LOCATION:12 Gauge MMA
END:VEVENT
END:VCALENDAR