BEGIN:VCALENDAR
VERSION:2.0
PRODID:-//RIGHTHERE//CALENDARIZE IT V3.2//EN
BEGIN:VEVENT
UID:2770-events@www.12gaugemma.com
DTSTART:20221002T120000Z
DTEND:20221002T124500Z
DTSTAMP:20221019T124556Z
SUMMARY:Junior Warriors MMA
RRULE:FREQ=WEEKLY;INTERVAL=1
END:VEVENT
END:VCALENDAR