BEGIN:VCALENDAR
VERSION:2.0
PRODID:-//RIGHTHERE//CALENDARIZE IT V3.2//EN
BEGIN:VEVENT
UID:1708-events@www.12gaugemma.com
DTSTART:20191109T120000Z
DTEND:20191109T130000Z
DTSTAMP:20191117T114835Z
SUMMARY:Junior and Teen Comp Team (invite only)
RRULE:FREQ=WEEKLY;INTERVAL=1
ORGANIZER;CN=12 Gauge MMA:MAILTO:admin@12gaugemma.com
LOCATION:12 Gauge MMA
END:VEVENT
END:VCALENDAR