BEGIN:VCALENDAR
VERSION:2.0
PRODID:-//RIGHTHERE//CALENDARIZE IT V3.2//EN
BEGIN:VEVENT
UID:1277-events@www.12gaugemma.com
DTSTART:20180304T111500Z
DTEND:20180304T120000Z
DTSTAMP:20180327T140424Z
SUMMARY:Mini Warriors
RRULE:FREQ=WEEKLY;INTERVAL=1
ORGANIZER;CN=12 Gauge MMA:MAILTO:admin@12gaugemma.com
LOCATION:12 Gauge MMA
END:VEVENT
END:VCALENDAR